


BEGIN:VCALENDAR
VERSION:2.0
PRODID:-//IP.Board Calendar 4.3.6//EN
METHOD:PUBLISH
CALSCALE:GREGORIAN
BEGIN:VTIMEZONE
TZID:Europe/London
TZURL:http://tzurl.org/zoneinfo/Europe/London
X-LIC-LOCATION:Europe/London
BEGIN:DAYLIGHT
TZOFFSETFROM:+0000
TZOFFSETTO:+0100
TZNAME:BST
DTSTART:20170326T020000Z
RRULE:FREQ=YEARLY;BYMONTH=3;BYDAY=-1SU
END:DAYLIGHT
BEGIN:STANDARD
TZOFFSETFROM:+0100
TZOFFSETTO:+0000
TZNAME:GMT
DTSTART:20171029T020000Z
RRULE:FREQ=YEARLY;BYMONTH=10;BYDAY=-1SU
END:STANDARD
END:VTIMEZONE
BEGIN:VEVENT
SUMMARY:«10 из 10». Первый конкурс лета
DTSTAMP:20170608T141546Z
SEQUENCE:0
UID:28-5-f7e4a0ca7c19b4a39580ceed78820ec3@forum.korabli.su
ORGANIZER;CN="zxmerlin":no-reply@lesta.ru
DESCRIPTION:\n\n	И снова у 
	вас есть воз
	можность исп
	ытать навыки 
	и удачу в борь
	бе за лучший
	 результат и ценн
	ые призы. Участвуй
	те в первом летнем к
	онкурсе — «10 из 10». На кон
	у контейнеры\, дублоны и 
	эсминец Blyskawica во главе с коман
	диром с 7 очками навыка!\n\n\n\n	 \n\n\
	n\n	Общие правила\n\n\n\n
		\n\n	Отправляйте
	сь в случайный
	 бой на любом 
	корабле V ур
	овня и сра
	жайтесь. Некотор
	ые боевые достижения прин
	есут вам конкурсные баллы.
	\n\n\n\n	 \n\n\n\n	Баллы сч
	итаются в рам
	ках одного б
	оя. Вы будете со
	ревноваться с другим
	и игроками в рамках од
	ного класса.\n\n\n\n\n		Уничто
	жение корабля — 3 балла.\n	\n	\
	n		Каждые два поджога — 1 балл
	.\n	\n	\n		Каждое затопление
	 – 1 балл.\n	\n	\n		Каждая проб
	итая цитадель – 1 балл.\n
		\n	\n		Каждый уничтоженный
	 самолёт – 1 балл.\n	\n	\
	n		Если за бой набр
	ано 700 единиц «чистого»
	 опыта и больше – 2 бал
	ла дополнительно.\n	\n
	\n\n	Сложите все ба
	ллы\, заработанны
	е в бою. Чем боль
	ше на вашем сче
	ту кораблей\, ц
	итаделей\, зат
	оплений и по
	жаров — тем 
	выше ваши ша
	нсы на побе
	ду. Высоки
	й показатель «чис
	того» опыта подарит вам д
	ва дополнительных балла.
	\n\n\n\n	 \n\n\n\n	Побед
	ителем конкурса с
	танет игрок с рекордным ко
	личеством баллов за бой.\n\n\n\n	 \n\
	n\n\n	Призы\n\n\n\n	\n\n	Ка
	ждый класс ко
	раблей — это о
	тдельная номинация 
	(крейсеры\, линкоры\
	, эсминцы\, авианос
	цы)\, а значит\, 
	победителей м
	ожет быть четыре. В 
	каждой номинации мы выделяе
	м по 5 призовых мест:\n\n\n\n\n		
	1-е место — 3000 дублонов или э
	сминец VII уровня Blyska
	wica со слотом и ком
	андиром с семью очками
	 навыков\, а также 10 контейнеро
	в «на удачу»\;\n	\n	\n		2-е ме
	сто — 2500 дублонов и 10 контейн
	еров «на удачу»\;\n	\n	\n		3-е
	 место — 2000 дублонов и 10 ко
	нтейнеров «на удачу»\;\n	\n	
	\n		4-е место — 1500 дублонов и 5 
	контейнеров «на удачу»\;\n	
	\n	\n		5-е место — 1000 дублонов и 5
	 контейнеров «на удачу».\n	\n\n\n	 \n\
	n\n\n	Условия участия\n\n\n\n	\
	n\n	Для участия в конкурсе необх
	одимо:\n\n\n\n	 \n\n\n\n\n		С
	ыграть в режиме «Случ
	айный бой» на любом 
	корабле V уровня.\n	
	\n	\n		Обязательн
	о заполнить 
	форму участника.
	 Только так ваша зая
	вка на участие буде
	т учитываться.\n	\
	n	\n		При жел
	ании мож
	ете подел
	иться скр
	иншотом сво
	ей послебоевой
	 статистики в специальной 
	теме на форуме (не обязатель
	но).\n	\n\n\n	 \n\n\n\n	Важные дополнитель
	ные условия\n\n\n\n	 \n\n\n\n	 \n\n\
	n\n\n		Бой должен б
	ыть сыгран на
	 корабле V уро
	вня в режим
	е «Случайны
	й бой» в пер
	иод проведени
	я конкурса. Заявки п
	ринимаются до закрытия формы — с
	 8 июня по 18 июня 23:59 (МСК).\n
		\n	\n		Количество з
	аявок на учас
	тие в конкурс
	е не ограничено\,
	 однако в зачёт прин
	имается только лучш
	ий результат.\n	\n	\n
			Приз можно п
	олучить толь
	ко один раз за
	 конкурс. Если 
	вы заняли нес
	колько призов
	ых мест в одно
	й номинации\, то
	 за вами сохра
	няется только
	 самое высоко
	е из них. Есл
	и вы заняли п
	ризовые мест
	а в разных но
	минациях — в
	ы сохраняете
	 их\, однако по
	лучаете толь
	ко один приз
	 с наибольшей ценност
	ью. Призы в одной ка
	тегории не суммиру
	ются.\n	\n	\n		Если
	 количество
	 набранных 
	баллов буде
	т равным у 
	нескольких учас
	тников\, победитель о
	пределится по нанесён
	ному урону.\n	\n	\n		Уч
	астник\, уличё
	нный в подло
	ге\, будет о
	тстранён о
	т конкурса и 
	лишится возможности
	 участвовать в наших конкурсах до
	 конца 2017 года.\n	\n	\n		 \n	\n
	\n\n	Итоги конкурса будут подведе
	ны не позднее 22 июня.\n\n\n\n
		 \n\n\n\n	Все вопр
	осы по конк
	урсу вы може
	те задать в специальной 
	теме или напрямую куратору конкурса AyaSov
	a.\n\n
DTSTART:20170608T140000Z
DTEND:20170618T205900Z
END:VEVENT
BEGIN:VEVENT
SUMMARY:Конкурс «Модифицируй это!»
DTSTAMP:20170601T150125Z
SEQUENCE:0
UID:18-5-f7e4a0ca7c19b4a39580ceed78820ec3@forum.korabli.su
ORGANIZER;CN="zxmerlin":no-reply@lesta.ru
DESCRIPTION:\n\n	Пользовательские моди
	фикации клиента World of Wa
	rships весьма попул
	ярны. Многие и
	х используют\,
	 но лишь мала
	я часть игро
	ков умеет и
	х создавать
	. Специально
	 для таких у
	мельцев мы о
	бъявляем ко
	нкурс на соз
	дание лучшей
	 модификации. 
	Неважно\, нас
	колько давно
	 вы увлечены 
	созданием мо
	дов\, — любой
	 желающий мож
	ет принять уч
	астие и потяг
	аться за мест
	о на пьедест
	але. Не упустите сво
	й шанс блеснуть и заработа
	ть ценную награду!\n\n\n\n	 \n\n
	\n\n	Сроки проведения конкурса\n
	\n\n\n	Старт: 25 мая.\n\n	Окончание: 25 июн
	я. \n\n\n\n	 \n\n\n\n	Условия участ
	ия\n\n\n\n\n		Создайте модиф
	икацию для клиента и
	гры.\n	\n	\n		Опубли
	куйте свою 
	работу на 
	форуме в 
	специаль
	ной теме. Публ
	икация должна соответств
	овать требованиям к оформ
	лению.\n	\n\n\n	 \n\n\n\n	Тр
	ебования к оформлени
	ю публикации\n\n	Публика
	ция должна содержать:
	\n\n\n\n\n		Заголовок\,
	 состоящий из 
	названия номи
	нации\, заключё
	нного в квадратн
	ые скобки\, и на
	звания самого мода.\nП
	ример: [Графические модифика
	ции] камуфляж Splinter.\n	\n	
	\n		Скриншот или видео\, 
	явно отражающие рабо
	ту мода в игре.\n	\n	\n		Кратк
	ое описание работы 
	мода.\n	\n	\n		Ссылку на
	 скачивание мода (рекомендо
	ванные хранилища: Google-диск\, Yandex-дис
	к\, облако Mail.ru и т.д.)\n	\n\n\n	 \n\n\
	n\n	Номинации и призы\n\n	К
	онкурс проводится в 
	трёх номинациях:\n\
	n\n\n\n		Интерфейсные моди
	фикации: модификации
	 для Порта или боя.\
	n	\n	\n		Графические мод
	ификации: изменение
	 внешнего вида\, диза
	йна.\n	\n	\n		Звуков
	ые модификации: изменени
	е звуков выстрелов\, со
	бытий и т. д.\n	\n\n\n	В
	 каждой номинации выделяется три
	 призовых места.\n\n\n\n	 \n\n\n\n\n\n				 \n
				\n			\n				Интерфейсные модиф
	икации\n			\n			\n				Графические 
	модификации\n			\n			\n				Звуковые модифик
	ации\n			\n		\n\n\n\n				1-е\n\n				место\n			\n			\n	
				Клавиатура Tesoro\n			\n			\n				Графиче
	ский планшет\n			\n			\n				Игровые наушники\n	
			\n		\n\n\n				2-е\n\n				место\n			\n			\n		
			Любой корабль из списка на выбор\,\n
	\n				5000 дублонов\n			\n			\n				Любо
	й корабль из списка на выбор\,\n\n			
		5000 дублонов\n			\n			\n				Любой кор
	абль из списка на выбор\,\n\n				5000 дублонов
	\n			\n		\n\n\n				3-е\n\n				место\n			\n			\n				2500 дубл
	онов\n			\n			\n				2500 дублонов\n			\n			\n				2500 
	дублонов\n			\n		\n\n\n\n	Призовые кор
	абли\n\n\n\n\n		эсминец V уровня Fujin \;\n	\
	n	\n		линкор VII уровня Hood \;\n	\n	\n		крейсер 
	VI уровня Perth \;\n	\n	\n		авианосец VII уровн
	я Saipan \;\n	\n	\n		линкор VIII уровня Tirpitz\;\
	n	\n	\n		линкор IV уровня «Импер
	атор Николай I»\;\n	\n	\n		эсм
	инец V уровня «Охотн
	ик».\n	\n\n\n	Победител
	ь при желании мо
	жет заменить приз за 
	1-е место на любой корабль и
	з списка + 5000 дублонов.
	\n\n\n\n	Вы можете 
	создать мод
	ификацию дл
	я любой из ук
	азанных ном
	инаций. При
	 желании мож
	но опробовать
	 свои силы во
	 всех номина
	циях одновре
	менно\, однак
	о в каждой номинац
	ии может быть предс
	тавлено не более о
	дной работы.\n\n\n
	\n	Победители и приз
	ёры будут определены 
	решением жюри. \n\n\n\
	n	Состав жюри: Анд
	рей Лысак\, Артур Тохта
	ш\, Василий Пуговкин
	\, Тимур Медведев.\n\n\n\n	Ва
	жные дополнительн
	ые условия\n\n\n\
	n\n		Автор м
	одификац
	ии долже
	н поддерж
	ивать раб
	отоспособ
	ность мода 
	на протяж
	ении всего
	 конкурса 
	и обновлят
	ь модификацию по ме
	ре необходимости в
	плоть до подведения
	 итогов.\n	\n	\n		Конк
	урсная работ
	а не должна 
	нарушать пра
	вила форума\, а также п
	равила проведения конкурс
	ов в группах Wargaming.\n	
	\n	\n		Модификац
	ия должна быть
	 создана специально
	 для конкурса в сроки его пров
	едения (с 25 мая по 25 июня 2017 г
	ода).\n	\n	\n		Участни
	к\, пойманный 
	на подлоге и
	ли заимствов
	ании\, снима
	ется с конк
	урса и освоб
	ождается от 
	участия в наших офици
	альных конкурсах на 
	срок до трёх месяцев
	.\n	\n	\n		В конкурсе
	 может принять уча
	стие любой желающий\, кроме 
	сотрудников компании Wargam
	ing.\n	\n	\n		Подавая за
	явку на участи
	е в конкурсе\
	, вы соглаш
	аетесь пре
	доставить с
	вои данные\, необход
	имые курьерской сл
	ужбе для доставки при
	зов.\n	\n\n\n	Итоги будут подв
	едены не позднее 1 июл
	я.\n\n\n\n	С любыми 
	вопросами по конкурсу вы
	 всегда можете обратиться к его куратору
	.\n\n
DTSTART;VALUE=DATE:20170525
DTEND;VALUE=DATE:20170625
END:VEVENT
END:VCALENDAR
