


BEGIN:VCALENDAR
VERSION:2.0
PRODID:-//IP.Board Calendar 4.3.6//EN
METHOD:PUBLISH
CALSCALE:GREGORIAN
BEGIN:VTIMEZONE
TZID:Europe/London
TZURL:http://tzurl.org/zoneinfo/Europe/London
X-LIC-LOCATION:Europe/London
BEGIN:DAYLIGHT
TZOFFSETFROM:+0000
TZOFFSETTO:+0100
TZNAME:BST
DTSTART:20170326T020000Z
RRULE:FREQ=YEARLY;BYMONTH=3;BYDAY=-1SU
END:DAYLIGHT
BEGIN:STANDARD
TZOFFSETFROM:+0100
TZOFFSETTO:+0000
TZNAME:GMT
DTSTART:20171029T020000Z
RRULE:FREQ=YEARLY;BYMONTH=10;BYDAY=-1SU
END:STANDARD
END:VTIMEZONE
BEGIN:VTIMEZONE
TZID:Europe/London
TZURL:http://tzurl.org/zoneinfo/Europe/London
X-LIC-LOCATION:Europe/London
BEGIN:DAYLIGHT
TZOFFSETFROM:+0000
TZOFFSETTO:+0100
TZNAME:BST
DTSTART:20180325T020000Z
RRULE:FREQ=YEARLY;BYMONTH=3;BYDAY=-1SU
END:DAYLIGHT
BEGIN:STANDARD
TZOFFSETFROM:+0100
TZOFFSETTO:+0000
TZNAME:GMT
DTSTART:20181028T020000Z
RRULE:FREQ=YEARLY;BYMONTH=10;BYDAY=-1SU
END:STANDARD
END:VTIMEZONE
BEGIN:VEVENT
SUMMARY:Скидки на премиум корабли
DTSTAMP:20171220T145307Z
SEQUENCE:0
UID:140-8-f7e4a0ca7c19b4a39580ceed78820ec3@forum.korabli.su
ORGANIZER;CN="LeopoldBloom":no-reply@lesta.ru
DESCRIPTION:\n\n	Скидки на премиум корабли
	\n\n\n\n	 \n\n\n\n	С 20 декабря по 10 я
	нваря 9:00 (МСК) в 
	клиенте игр
	ы действуют скид
	ки на все премиум корабли. 
	Время расширять коллекцию!\
	n\n\n\n	 \n\n\n\n	Скидки\n–50% 
	дублонов на премиум к
	орабли II–V уровней.\n\n\
	n\n	–30% дублонов на премиу
	м корабли VI–VII уровней.\n\
	n\n\n	–15% дублонов на премиум корабл
	и VIII–X уровней.\n\n\n\n	 \n\n\n\n	___________________________
	__________________________________________________________________________
	____________________________________________________\n\n
DTSTART:20171220T060000Z
DTEND:20180110T060000Z
END:VEVENT
END:VCALENDAR
